BEGIN:VCALENDAR
VERSION:2.0
PRODID:-//Unwind at Westclox - ECPv6.15.20//NONSGML v1.0//EN
CALSCALE:GREGORIAN
METHOD:PUBLISH
X-WR-CALNAME:Unwind at Westclox
X-ORIGINAL-URL:https://unwindatwestclox.com
X-WR-CALDESC:Events for Unwind at Westclox
REFRESH-INTERVAL;VALUE=DURATION:PT1H
X-Robots-Tag:noindex
X-PUBLISHED-TTL:PT1H
BEGIN:VTIMEZONE
TZID:America/Chicago
BEGIN:DAYLIGHT
TZOFFSETFROM:-0600
TZOFFSETTO:-0500
TZNAME:CDT
DTSTART:20250309T080000
END:DAYLIGHT
BEGIN:STANDARD
TZOFFSETFROM:-0500
TZOFFSETTO:-0600
TZNAME:CST
DTSTART:20251102T070000
END:STANDARD
BEGIN:DAYLIGHT
TZOFFSETFROM:-0600
TZOFFSETTO:-0500
TZNAME:CDT
DTSTART:20260308T080000
END:DAYLIGHT
BEGIN:STANDARD
TZOFFSETFROM:-0500
TZOFFSETTO:-0600
TZNAME:CST
DTSTART:20261101T070000
END:STANDARD
BEGIN:DAYLIGHT
TZOFFSETFROM:-0600
TZOFFSETTO:-0500
TZNAME:CDT
DTSTART:20270314T080000
END:DAYLIGHT
BEGIN:STANDARD
TZOFFSETFROM:-0500
TZOFFSETTO:-0600
TZNAME:CST
DTSTART:20271107T070000
END:STANDARD
END:VTIMEZONE
BEGIN:VEVENT
DTSTART;TZID=America/Chicago:20260423T180000
DTEND;TZID=America/Chicago:20260423T190000
DTSTAMP:20260420T063654
CREATED:20260407T170412Z
LAST-MODIFIED:20260407T170611Z
UID:4081-1776967200-1776970800@unwindatwestclox.com
SUMMARY:Cord Cutting & Release Work
DESCRIPTION:There are moments in life when we feel energetically tied to people\, past experiences\, or emotions that no longer serve who we are becoming. These energetic cords can keep us feeling stuck\, drained\, or unable to fully move forward. \nThis deeply intentional class is designed to help you gently release what you’re ready to let go of and reclaim your energy\, clarity\, and sense of self. \nDuring this experience\, you will be guided through a process of awareness\, reflection\, and energetic release in a safe and supportive environment. Together\, we will explore how attachments form\, how they impact your energy\, and how to consciously begin releasing them with intention and compassion. \nThis is not about forcefully “cutting people out\,” but rather about releasing the energetic weight\, patterns\, or emotional ties that are keeping you from feeling free and aligned. \nWhether you are letting go of a relationship\, a past version of yourself\, limiting beliefs\, or emotional heaviness\, this space is here to support your process. \nPlease bring: \n\nA journal and pen\nAn open mind and heart\n\nSpots are limited to keep the space intimate. Please RSVP: https://www.eventbrite.com/e/cord-cutting-release-work-tickets-1986915492725?aff=oddtdtcreator
URL:https://unwindatwestclox.com/event/cord-cutting-release-work/
LOCATION:Unwind at Westclox\, 304 5th St.\, Peru\, IL\, 61354\, United States
CATEGORIES:Class
ATTACH;FMTTYPE=image/png:https://unwindatwestclox.com/wp-content/uploads/2026/04/Red-And-Black-Minimal-Illustrative-Horror-Novel-Book-Cover-1920-x-1080-px.png
END:VEVENT
BEGIN:VEVENT
DTSTART;TZID=America/Chicago:20260425T153000
DTEND;TZID=America/Chicago:20260425T170000
DTSTAMP:20260420T063654
CREATED:20260401T180952Z
LAST-MODIFIED:20260401T190326Z
UID:4073-1777131000-1777136400@unwindatwestclox.com
SUMMARY:The Living Field: A Collective Healing Transmission
DESCRIPTION:This spirit-led gathering is a sacred space to pause\, soften\, and receive…held in the energy of community\, intuition\, and deep energetic support. \nGuided by Faiza Karim’s intuitive channeling and Abby Zukowki’s sound healing and embodied integration work\, this experience unfolds organically\, responding to the energy of those present in the room. \nWe begin with a gallery-style intuitive reading\, where spirit communicates through images\, sensations\, and knowing…offering messages of clarity\, validation\, and connection. If you feel called to connect with a loved one in spirit\, that intention is honored and welcomed. \nFrom there\, you’ll be guided into a deeply immersive healing experience\, where Abby weaves sound\, vibration\, breath\, and gentle meditative guidance to help the body release\, receive\, and integrate. \nTogether\, we will open a field where: \n\nEnergy can move and clear through the body\nThe nervous system can soften and regulate\nLost or fragmented parts of self can gently return and reintegrate\nThe physical and energetic body come back into harmony\n\nWhat You’ll Experience\n• Spirit-led intuitive messages in a group setting \n• Opportunity to connect with loved ones in spirit \n• Continuous energy healing guided by spirit \n• Chakra balancing + energetic alignment \n• Live sound healing + vibrational activation \n• Guided meditation + breath + embodied awareness \n• Emotional release\, grounding\, and nervous system support \n• Space for reflection\, integration\, and inner connection \nThis experience is never duplicated so each gathering is completely unique to those who are meant to be in the room. \nIf you’ve been feeling the call\, this is your invitation. Reserve your spot now and allow yourself to be supported\, seen\, and realigned: https://www.eventbrite.com/e/the-living-field-a-collective-transmission-with-faiza-karim-tickets-1986440084767?aff=oddtdtcreator
URL:https://unwindatwestclox.com/event/4073/
LOCATION:Unwind at Westclox\, 304 5th St.\, Peru\, IL\, 61354\, United States
CATEGORIES:Class
ATTACH;FMTTYPE=image/png:https://unwindatwestclox.com/wp-content/uploads/2026/04/Brown-Vintage-Book-of-Alchemy-Fun-Fact-Instagram-Post-1920-x-1080-px-1.png
END:VEVENT
BEGIN:VEVENT
DTSTART;TZID=America/Chicago:20260509T130000
DTEND;TZID=America/Chicago:20260509T140000
DTSTAMP:20260420T063654
CREATED:20260401T151345Z
LAST-MODIFIED:20260401T151345Z
UID:4068-1778331600-1778335200@unwindatwestclox.com
SUMMARY:Mother’s Day Weekend Sound Healing at Hornbaker Gardens
DESCRIPTION:🌸 Mother’s Day Weekend Sound Healing at Hornbaker Gardens 🌸\nCelebrate the beauty of Mother’s Day weekend with a deeply nourishing Sound Healing experience set within the peaceful landscape of Hornbaker Gardens. \nAs spring is in full bloom\, the gardens come alive with color\, fresh air\, and the gentle energy of renewal creating the perfect space to slow down\, reconnect\, and honor both yourself and the nurturing energy of the season. Whether you come with your mother\, in honor of her\, or simply to receive\, this experience is an invitation to be held by nature. \nWe will begin with soft\, grounding breathwork to settle the body and calm the nervous system. From there\, you’ll be guided through a gentle meditation\, allowing you to release\, open\, and become fully present among the beauty of the gardens. \nThe experience will then flow into an immersive sound journey\, where healing tones from voice and instruments blend with the natural sounds of the land: birds\, breeze\, and rustling leaves. Surrounded by blooming gardens and open skies\, the vibrations of sound deepen relaxation\, support emotional release\, and restore inner balance. \nThere is something truly special about receiving sound healing outdoors…where the earth\, plants\, and air become part of the experience\, amplifying the sense of peace\, connection\, and renewal. \n✨ Space is limited. Please sign up in advance to reserve your spot: https://www.eventbrite.com/e/sound-healing-journey-at-hornbaker-gardens-tickets-1986436950392?aff=oddtdtcreator\n✨ Donations are gratefully accepted and help support both the continuation of these offerings and the beautiful grounds of Hornbaker Gardens. \nCome as you are. Bring a loved one or gift this experience to yourself. \nLeave feeling grounded\, nurtured\, and gently realigned. \nhttps://www.eventbrite.com/e/sound-healing-journey-at-hornbaker-gardens-tickets-1986436950392?aff=oddtdtcreator
URL:https://unwindatwestclox.com/event/mothers-day-weekend-sound-healing-at-hornbaker-gardens/
LOCATION:IL
ATTACH;FMTTYPE=image/png:https://unwindatwestclox.com/wp-content/uploads/2026/04/Blue-and-Black-Simple-Therapy-Center-Sound-Healing-Flyer-1920-x-1080-px-1.png
END:VEVENT
BEGIN:VEVENT
DTSTART;TZID=America/Chicago:20260612T183000
DTEND;TZID=America/Chicago:20260612T203000
DTSTAMP:20260420T063654
CREATED:20260326T150517Z
LAST-MODIFIED:20260326T150517Z
UID:4065-1781289000-1781296200@unwindatwestclox.com
SUMMARY:Stories Under the Stars
DESCRIPTION:Join A Moment of Awe (AMOA) for a magical evening of connection\, creativity\, and heart-centered storytelling beneath the open sky. \nAs the sun sets and the stars begin to shine\, we’ll gather around the warmth of community to share stories of compassion and kindness\, reminding us of the beauty in human connection. This immersive experience invites you to slow down\, be present\, and open your heart. \nWhether you come to listen\, share\, or simply be\, this is a space to reconnect with yourself\, with others\, and with the wonder of the present moment. \nPlease RSVP so we can prepare the space: https://www.eventbrite.com/e/stories-under-the-stars-tickets-1986002147886?aff=oddtdtcreator
URL:https://unwindatwestclox.com/event/stories-under-the-stars-2/
LOCATION:Unwind at Westclox\, 304 5th St.\, Peru\, IL\, 61354\, United States
ATTACH;FMTTYPE=image/png:https://unwindatwestclox.com/wp-content/uploads/2026/03/Stories-under-the-stars-event-poster.png
END:VEVENT
END:VCALENDAR