BEGIN:VCALENDAR
VERSION:2.0
PRODID:-//Unwind at Westclox - ECPv6.15.20//NONSGML v1.0//EN
CALSCALE:GREGORIAN
METHOD:PUBLISH
X-ORIGINAL-URL:https://unwindatwestclox.com
X-WR-CALDESC:Events for Unwind at Westclox
REFRESH-INTERVAL;VALUE=DURATION:PT1H
X-Robots-Tag:noindex
X-PUBLISHED-TTL:PT1H
BEGIN:VTIMEZONE
TZID:America/Chicago
BEGIN:DAYLIGHT
TZOFFSETFROM:-0600
TZOFFSETTO:-0500
TZNAME:CDT
DTSTART:20240310T080000
END:DAYLIGHT
BEGIN:STANDARD
TZOFFSETFROM:-0500
TZOFFSETTO:-0600
TZNAME:CST
DTSTART:20241103T070000
END:STANDARD
BEGIN:DAYLIGHT
TZOFFSETFROM:-0600
TZOFFSETTO:-0500
TZNAME:CDT
DTSTART:20250309T080000
END:DAYLIGHT
BEGIN:STANDARD
TZOFFSETFROM:-0500
TZOFFSETTO:-0600
TZNAME:CST
DTSTART:20251102T070000
END:STANDARD
BEGIN:DAYLIGHT
TZOFFSETFROM:-0600
TZOFFSETTO:-0500
TZNAME:CDT
DTSTART:20260308T080000
END:DAYLIGHT
BEGIN:STANDARD
TZOFFSETFROM:-0500
TZOFFSETTO:-0600
TZNAME:CST
DTSTART:20261101T070000
END:STANDARD
END:VTIMEZONE
BEGIN:VEVENT
DTSTART;TZID=America/Chicago:20250612T080000
DTEND;TZID=America/Chicago:20250612T180000
DTSTAMP:20260423T062017
CREATED:20250529T220154Z
LAST-MODIFIED:20250529T220154Z
UID:3841-1749715200-1749751200@unwindatwestclox.com
SUMMARY:Group Meditation with Abby Zukowski
DESCRIPTION:In this guided group meditation\, we will explore the art of surrender\, learning to let go of the illusion of control and return to a place of trust\, presence\, and inner stillness. Together\, we’ll gently examine the mental patterns that drive us to grasp\, fix\, or force outcomes\, and begin the process of releasing them with compassion. \nThrough breath awareness\, body scanning\, and visualization\, this session will help participants reconnect with what is within their control\, their inner response\, and release the weight of what is not. We’ll cultivate a felt sense of safety in the now\, anchoring in the body and breath as safe ground\, even in uncertainty. \nThis class is an invitation to pause\, breathe\, and remember: peace begins when we stop resisting the flow of life. Please RSVP: https://www.eventbrite.com/e/group-meditation-with-abby-zukowski-tickets-1388633563369?aff=oddtdtcreator
URL:https://unwindatwestclox.com/event/group-meditation-with-abby-zukowski/
LOCATION:Unwind at Westclox\, 304 5th St.\, Peru\, IL\, 61354\, United States
CATEGORIES:Class
ATTACH;FMTTYPE=image/png:https://unwindatwestclox.com/wp-content/uploads/2025/05/Black-and-White-Minimalist-Meditation-Guide-Youtube-Thumbnail.png
END:VEVENT
BEGIN:VEVENT
DTSTART;TZID=America/Chicago:20250614T110000
DTEND;TZID=America/Chicago:20250614T120000
DTSTAMP:20260423T062017
CREATED:20250529T221903Z
LAST-MODIFIED:20250529T222236Z
UID:3844-1749898800-1749902400@unwindatwestclox.com
SUMMARY:Sound Healing at Hornbaker Gardens in Princeton\, IL
DESCRIPTION:Join us for an immersive sound healing journey set in the serene beauty of Hornbaker Gardens. Surrounded by the rhythm of rustling leaves\, blooming life\, and open sky\, this session invites you to reconnect with yourself and the natural world through the power of vibration and deep listening. \nUsing crystal singing bowls\, chimes\, gongs\, and other therapeutic instruments\, we will create a meditative soundscape that encourages rest\, release\, and realignment. As the harmonic tones move through your body and the gardens hold you in their stillness\, you’ll be guided into a state of calm awareness where healing and clarity can naturally arise. \nThis outdoor experience is designed to harmonize your nervous system with the earth’s frequency\, inviting peace not just in mind\, but in spirit and body as well. \nSound Healing Sessions will be at 11:00 AM & 1:00 PM \nPlease RSVP: https://www.eventbrite.com/e/sound-healing-at-hornbaker-gardens-tickets-1388637966539?aff=oddtdtcreator
URL:https://unwindatwestclox.com/event/sound-healing-at-hornbaker-gardens-in-princeton-il/
LOCATION:IL
CATEGORIES:Class
ATTACH;FMTTYPE=image/png:https://unwindatwestclox.com/wp-content/uploads/2025/05/Healing-Frequencies-Sound-for-the-SOul-1.png
END:VEVENT
BEGIN:VEVENT
DTSTART;TZID=America/Chicago:20250619T180000
DTEND;TZID=America/Chicago:20250619T190000
DTSTAMP:20260423T062017
CREATED:20250529T224343Z
LAST-MODIFIED:20250529T224405Z
UID:3849-1750356000-1750359600@unwindatwestclox.com
SUMMARY:The Invisible Guide with Tatiana Panferova
DESCRIPTION:Join Tatiana for The Invisible Guide\, an immersive and hands-on exploration into the ancient art of pendulum work. In this class\, you’ll uncover how to connect with subtle energies and develop a personal relationship with intuitive guidance through motion\, presence\, and trust. \nThrough guided practice\, Tatiana will introduce you to the principles of energetic work\, demonstrating how to calibrate and interpret your pendulum\, and walk you through practical exercises to ask clear\, grounded questions and receive meaningful answers. \nEach participant will receive a personal pendulum to work with and take home\, your own “invisible guide” to continue your intuitive journey beyond the class. \nPlease RSVP: https://www.eventbrite.com/e/the-invisible-guide-with-tatiana-panferova-tickets-1388644977509?aff=oddtdtcreator
URL:https://unwindatwestclox.com/event/the-invisible-guide-with-tatiana-panferova/
LOCATION:Unwind at Westclox\, 304 5th St.\, Peru\, IL\, 61354\, United States
CATEGORIES:Class
ATTACH;FMTTYPE=image/png:https://unwindatwestclox.com/wp-content/uploads/2025/05/Blue-Modern-Music-Playlist-YouTube-Thumbnail.png
END:VEVENT
BEGIN:VEVENT
DTSTART;TZID=America/Chicago:20250626T180000
DTEND;TZID=America/Chicago:20250626T190000
DTSTAMP:20260423T062017
CREATED:20250529T230133Z
LAST-MODIFIED:20250529T230133Z
UID:3853-1750960800-1750964400@unwindatwestclox.com
SUMMARY:Crystal Basics at Nell's Woodland
DESCRIPTION:Crystals have been treasured for centuries as tools for healing\, balance\, and spiritual connection. Crystal Basics 101 is the perfect introductory class for anyone curious about the energy and beauty of crystals. Set amidst the peaceful surroundings of Nell’s Woodland in Ottawa\, IL\, this hands-on class offers a grounded and accessible approach to working with crystals for personal well-being. \nIn this class\, you’ll learn about some of the most commonly used crystals\, their meanings\, and how to work with them for energy healing\, meditation\, and manifestation. You’ll also explore practical techniques for cleansing\, charging\, and caring for your crystals to keep their energy clear and vibrant. \nWhether you’re brand new to crystals or looking to deepen your understanding\, this class offers a welcoming space to explore their healing potential. \nRegistration is required through IVCC: https://ivccce.augusoft.net/index.cfm?method=ClassInfo.ClassInformation&int_class_id=22333&int_category_id=0&int_sub_category_id=0&int_catalog_id=0
URL:https://unwindatwestclox.com/event/crystal-basics-at-nells-woodland/
LOCATION:Nell’s Woodland\, 2000 Alexis Ave\, Ottawa\, IL\, 61350\, United States
CATEGORIES:Class
ATTACH;FMTTYPE=image/jpeg:https://unwindatwestclox.com/wp-content/uploads/2025/05/Pink-Watercolor-Nail-Art-Salon-Presentation.jpg
END:VEVENT
BEGIN:VEVENT
DTSTART;TZID=America/Chicago:20250628T140000
DTEND;TZID=America/Chicago:20250628T150000
DTSTAMP:20260423T062017
CREATED:20250529T232117Z
LAST-MODIFIED:20250529T232636Z
UID:3857-1751119200-1751122800@unwindatwestclox.com
SUMMARY:Soul Housekeeping: Cleaning Up Before You Cross Over
DESCRIPTION:We spend our lives cleaning our homes\, organizing our schedules\, and preparing for the future\, but few of us take the time to tend to our inner world before the greatest transition of all. \nSoul Housekeeping: Cleaning Up Before You Cross Over is a sacred\, heart-opening class designed to help you face the inevitability of death\, not with fear\, but with clarity\, tenderness\, and intention. This is not a class about dying. It’s about living well enough to let go. \nGuided by Tatiana Panferova and Abby Zukowski\, this experience invites you to explore the emotional\, spiritual\, and relational “clutter” we often carry unknowingly\, unspoken words\, unresolved wounds\, unfinished dreams. Through guided reflection\, gentle discussion\, and conscious practices\, you’ll begin the deeply human work of making peace with your life now\, so you can eventually leave this world without regret or resistance. \nWhether you’re facing your own mortality\, walking with someone who is\, or simply ready to live with more depth and authenticity\, this class offers a compassionate container to begin your soul’s gentle cleanup. \nCome with an open heart. Leave a little clearer\, a little lighter\, and more aligned with what matters most. \nPlease RSVP: https://www.eventbrite.com/e/soul-housekeeping-cleaning-up-before-you-cross-over-tickets-1388660182989?aff=oddtdtcreator
URL:https://unwindatwestclox.com/event/soul-housekeeping-cleaning-up-before-you-cross-over/
LOCATION:Unwind at Westclox\, 304 5th St.\, Peru\, IL\, 61354\, United States
CATEGORIES:Class
ATTACH;FMTTYPE=image/png:https://unwindatwestclox.com/wp-content/uploads/2025/05/Red-and-Black-Dark-Experimental-Music-YouTube-Thumbnail.png
END:VEVENT
END:VCALENDAR