BEGIN:VCALENDAR
VERSION:2.0
PRODID:-//Unwind at Westclox - ECPv6.15.20//NONSGML v1.0//EN
CALSCALE:GREGORIAN
METHOD:PUBLISH
X-WR-CALNAME:Unwind at Westclox
X-ORIGINAL-URL:https://unwindatwestclox.com
X-WR-CALDESC:Events for Unwind at Westclox
REFRESH-INTERVAL;VALUE=DURATION:PT1H
X-Robots-Tag:noindex
X-PUBLISHED-TTL:PT1H
BEGIN:VTIMEZONE
TZID:America/Chicago
BEGIN:DAYLIGHT
TZOFFSETFROM:-0600
TZOFFSETTO:-0500
TZNAME:CDT
DTSTART:20240310T080000
END:DAYLIGHT
BEGIN:STANDARD
TZOFFSETFROM:-0500
TZOFFSETTO:-0600
TZNAME:CST
DTSTART:20241103T070000
END:STANDARD
BEGIN:DAYLIGHT
TZOFFSETFROM:-0600
TZOFFSETTO:-0500
TZNAME:CDT
DTSTART:20250309T080000
END:DAYLIGHT
BEGIN:STANDARD
TZOFFSETFROM:-0500
TZOFFSETTO:-0600
TZNAME:CST
DTSTART:20251102T070000
END:STANDARD
BEGIN:DAYLIGHT
TZOFFSETFROM:-0600
TZOFFSETTO:-0500
TZNAME:CDT
DTSTART:20260308T080000
END:DAYLIGHT
BEGIN:STANDARD
TZOFFSETFROM:-0500
TZOFFSETTO:-0600
TZNAME:CST
DTSTART:20261101T070000
END:STANDARD
END:VTIMEZONE
BEGIN:VEVENT
DTSTART;TZID=America/Chicago:20250807T180000
DTEND;TZID=America/Chicago:20250807T193000
DTSTAMP:20260423T022308
CREATED:20250801T173630Z
LAST-MODIFIED:20250801T173630Z
UID:3896-1754589600-1754595000@unwindatwestclox.com
SUMMARY:The Intentional Mirror
DESCRIPTION:The Intentional Mirror is a 7-day manifestation experience designed to help you clarify your vision\, align your energy\, and call in what you truly desire. \nWe will go through the process of self-awareness\, energetic alignment\, and intentional action\, so you’re not just hoping things will change\, you’re consciously participating in your own transformation. \nUsing a blend of writing personalized intentions\, visualization\, and mindset work\, this class acts like a mirror\, reflecting back where you are now\, what you truly want\, and what’s been standing in your way. \nPlease RSVP: https://www.eventbrite.com/e/the-intentional-mirror-see-align-and-manifest-in-7-days-tickets-1553215412109?aff=oddtdtcreator
URL:https://unwindatwestclox.com/event/the-intentional-mirror/
LOCATION:Unwind at Westclox\, 304 5th St.\, Peru\, IL\, 61354\, United States
CATEGORIES:Class
ATTACH;FMTTYPE=image/jpeg:https://unwindatwestclox.com/wp-content/uploads/2025/08/The-Intentional-Mirror-See-Align-and-Manifest-in-7-Days.jpg
END:VEVENT
BEGIN:VEVENT
DTSTART;TZID=America/Chicago:20250810T130000
DTEND;TZID=America/Chicago:20250810T143000
DTSTAMP:20260423T022308
CREATED:20250801T180123Z
LAST-MODIFIED:20250801T180151Z
UID:3899-1754830800-1754836200@unwindatwestclox.com
SUMMARY:Crossing in Peace
DESCRIPTION:Before we are born\, we come from somewhere. When we leave\, we return. What happens in between shapes everything. \nCrossing in Peace is a contemplative and soulful exploration of the soul’s journey\, from pre-birth intentions to embodied life\, through death\, and beyond. \nOver a series of guided conversations and reflections\, this class invites you to expand your understanding of the soul’s purpose\, the nature of human incarnation\, and the deeper meaning behind both life and death. This is not a religious teaching\, but a spiritual inquiry\, rooted in reverence\, curiosity\, and the universal longing to understand why we’re here and where we go. \nWhether you’re a seeker\, a healer\, or simply soul-curious\, Crossing in Peace offers a space to reflect\, remember\, and reconnect with the deeper thread of your existence. \nCome with an open heart. Leave with a widened view of life itself. \nhttps://www.eventbrite.com/e/crossing-in-peace-conversations-on-death-dying-and-the-soul-tickets-1553234970609?aff=oddtdtcreator
URL:https://unwindatwestclox.com/event/3899/
LOCATION:Unwind at Westclox\, 304 5th St.\, Peru\, IL\, 61354\, United States
CATEGORIES:Class
ATTACH;FMTTYPE=image/png:https://unwindatwestclox.com/wp-content/uploads/2025/08/Crossing-in-peace.png
END:VEVENT
BEGIN:VEVENT
DTSTART;TZID=America/Chicago:20250812T180000
DTEND;TZID=America/Chicago:20250812T190000
DTSTAMP:20260423T022308
CREATED:20250801T181607Z
LAST-MODIFIED:20250801T210935Z
UID:3904-1755021600-1755025200@unwindatwestclox.com
SUMMARY:Primal Breath
DESCRIPTION:Awaken the body. Release the noise. Return to your instinct. \nPrimal Breath is a dynamic\, full-body breathwork experience designed to reconnect you with your raw\, untamed life force. Through intentional breath\, sound\, and somatic movement\, this class helps you move beyond the mind and drop into the wisdom of the body. \nThis is not about “breathing to relax.” It’s about breathing to remember\, to shed layers of conditioning\, to feel fully\, and to access the deep intelligence that lives beneath thought. \nPlease RSVP: https://www.eventbrite.com/e/primal-breath-with-lisa-serafini-tickets-1553248491049?aff=oddtdtcreator
URL:https://unwindatwestclox.com/event/primal-breath/
LOCATION:Unwind at Westclox\, 304 5th St.\, Peru\, IL\, 61354\, United States
CATEGORIES:Class
ATTACH;FMTTYPE=image/png:https://unwindatwestclox.com/wp-content/uploads/2025/08/Primal-Breath-1.png
END:VEVENT
BEGIN:VEVENT
DTSTART;TZID=America/Chicago:20250830T130000
DTEND;TZID=America/Chicago:20250830T143000
DTSTAMP:20260423T022308
CREATED:20250827T181505Z
LAST-MODIFIED:20250827T181505Z
UID:3911-1756558800-1756564200@unwindatwestclox.com
SUMMARY:Tibetian Cranial Lecture & Demonstration
DESCRIPTION:Join us for an inspiring event led by Philae Amenti\, where you’ll meet our Tibetan Cranial teacher and learn about this sacred tradition. She will share her story of how she was called to study\, practice\, and now teach this powerful healing art. \nWhat to Expect:\n*A presentation on the history and lineage of Tibetan Cranial\n*A live demonstration session for one participant (not to show techniques\, but to offer the group a felt experience of the work)\n*A Q&A session about Tibetan Cranial and its continued practice \nPlease RSVP: https://www.eventbrite.com/e/tibetan-cranial-lecture-demonstration-wphilae-amenti-tickets-1636471493289?aff=oddtdtcreator \nJoin us on Saturday\, August 30th at 1:00 pm at Unwind at Westclox!
URL:https://unwindatwestclox.com/event/tibetian-cranial-lecture-demonstration/
LOCATION:Unwind at Westclox\, 304 5th St.\, Peru\, IL\, 61354\, United States
CATEGORIES:Class
ATTACH;FMTTYPE=image/png:https://unwindatwestclox.com/wp-content/uploads/2025/08/Tibetan-Cranial-Lecture-Demonstration-1.png
END:VEVENT
END:VCALENDAR