BEGIN:VCALENDAR
VERSION:2.0
PRODID:-//Unwind at Westclox - ECPv6.15.20//NONSGML v1.0//EN
CALSCALE:GREGORIAN
METHOD:PUBLISH
X-WR-CALNAME:Unwind at Westclox
X-ORIGINAL-URL:https://unwindatwestclox.com
X-WR-CALDESC:Events for Unwind at Westclox
REFRESH-INTERVAL;VALUE=DURATION:PT1H
X-Robots-Tag:noindex
X-PUBLISHED-TTL:PT1H
BEGIN:VTIMEZONE
TZID:America/Chicago
BEGIN:DAYLIGHT
TZOFFSETFROM:-0600
TZOFFSETTO:-0500
TZNAME:CDT
DTSTART:20240310T080000
END:DAYLIGHT
BEGIN:STANDARD
TZOFFSETFROM:-0500
TZOFFSETTO:-0600
TZNAME:CST
DTSTART:20241103T070000
END:STANDARD
BEGIN:DAYLIGHT
TZOFFSETFROM:-0600
TZOFFSETTO:-0500
TZNAME:CDT
DTSTART:20250309T080000
END:DAYLIGHT
BEGIN:STANDARD
TZOFFSETFROM:-0500
TZOFFSETTO:-0600
TZNAME:CST
DTSTART:20251102T070000
END:STANDARD
BEGIN:DAYLIGHT
TZOFFSETFROM:-0600
TZOFFSETTO:-0500
TZNAME:CDT
DTSTART:20260308T080000
END:DAYLIGHT
BEGIN:STANDARD
TZOFFSETFROM:-0500
TZOFFSETTO:-0600
TZNAME:CST
DTSTART:20261101T070000
END:STANDARD
END:VTIMEZONE
BEGIN:VEVENT
DTSTART;TZID=America/Chicago:20251218T180000
DTEND;TZID=America/Chicago:20251218T190000
DTSTAMP:20260422T202908
CREATED:20251130T000102Z
LAST-MODIFIED:20251130T000102Z
UID:4004-1766080800-1766084400@unwindatwestclox.com
SUMMARY:Pendulum Magic for the Season
DESCRIPTION:Step into the magic of the winter season with an evening of intuition\, connection\, and energetic guidance. Pendulum Magic for the Season is a beginner-friendly\, heart-opening workshop designed to help you access your inner wisdom during one of the most reflective times of the year. \nEveryone who attends will receive their own pendulum to keep to support clarity\, grounding\, and personal intention throughout the season. \nPlease RSVP: https://www.eventbrite.com/e/pendulum-magic-for-the-season-tickets-1976370032971?aff=oddtdtcreator
URL:https://unwindatwestclox.com/event/pendulum-magic-for-the-season/
LOCATION:Unwind at Westclox\, 304 5th St.\, Peru\, IL\, 61354\, United States
CATEGORIES:Class
ATTACH;FMTTYPE=image/jpeg:https://unwindatwestclox.com/wp-content/uploads/2025/11/merry-christmas-1920-x-1080-px-1.jpg
END:VEVENT
END:VCALENDAR