BEGIN:VCALENDAR
VERSION:2.0
PRODID:-//Unwind at Westclox - ECPv6.15.20//NONSGML v1.0//EN
CALSCALE:GREGORIAN
METHOD:PUBLISH
X-ORIGINAL-URL:https://unwindatwestclox.com
X-WR-CALDESC:Events for Unwind at Westclox
REFRESH-INTERVAL;VALUE=DURATION:PT1H
X-Robots-Tag:noindex
X-PUBLISHED-TTL:PT1H
BEGIN:VTIMEZONE
TZID:America/Chicago
BEGIN:DAYLIGHT
TZOFFSETFROM:-0600
TZOFFSETTO:-0500
TZNAME:CDT
DTSTART:20250309T080000
END:DAYLIGHT
BEGIN:STANDARD
TZOFFSETFROM:-0500
TZOFFSETTO:-0600
TZNAME:CST
DTSTART:20251102T070000
END:STANDARD
BEGIN:DAYLIGHT
TZOFFSETFROM:-0600
TZOFFSETTO:-0500
TZNAME:CDT
DTSTART:20260308T080000
END:DAYLIGHT
BEGIN:STANDARD
TZOFFSETFROM:-0500
TZOFFSETTO:-0600
TZNAME:CST
DTSTART:20261101T070000
END:STANDARD
BEGIN:DAYLIGHT
TZOFFSETFROM:-0600
TZOFFSETTO:-0500
TZNAME:CDT
DTSTART:20270314T080000
END:DAYLIGHT
BEGIN:STANDARD
TZOFFSETFROM:-0500
TZOFFSETTO:-0600
TZNAME:CST
DTSTART:20271107T070000
END:STANDARD
END:VTIMEZONE
BEGIN:VEVENT
DTSTART;TZID=America/Chicago:20260211T180000
DTEND;TZID=America/Chicago:20260211T190000
DTSTAMP:20260423T060600
CREATED:20260130T004030Z
LAST-MODIFIED:20260130T004030Z
UID:4028-1770832800-1770836400@unwindatwestclox.com
SUMMARY:The Art of Love Magic
DESCRIPTION:Love magic\, at its core\, is the art of working with intention\, energy\, and presence. In this gentle and empowering class\, we explore how conscious rituals can help open the heart\, clarify desire\, and align us with love in its many forms. \nTogether\, we’ll learn self-love rituals designed to deepen compassion\, confidence\, and worthiness. We’ll also explore connection rituals for couples\, practices to strengthen harmony\, communication\, and mutual intention. For those feeling called\, we’ll cover attraction rituals focused on aligning with a soulmate or meaningful partnership without manipulation\, force\, or outcome-attachment. \nThis class is about energetic alignment\, not control. You’ll learn how words\, symbols\, breath\, and focused intention create subtle shifts that ripple into daily life and relationships. All practices are respectful\, grounded\, and rooted in consent perfect for beginners or anyone curious about working with energy in a heart-led way. \nYou’ll leave with simple\, practical rituals you can return to anytime\, along with a deeper understanding of how love responds when we meet it with clarity\, integrity\, and openness. \nNo prior experience needed. \nInclusive\, gentle\, and intention-based. \nPlease RSVP: https://www.eventbrite.com/e/the-art-of-love-magic-rituals-for-an-open-heart-tickets-1981976008595?aff=oddtdtcreator
URL:https://unwindatwestclox.com/event/the-art-of-love-magic/
LOCATION:Unwind at Westclox\, 304 5th St.\, Peru\, IL\, 61354\, United States
CATEGORIES:Class
ATTACH;FMTTYPE=image/jpeg:https://unwindatwestclox.com/wp-content/uploads/2026/01/Red-Flat-Design-Valentine-Quotes-Instagram-Post-1920-x-1080-px.jpg
END:VEVENT
BEGIN:VEVENT
DTSTART;TZID=America/Chicago:20260312T180000
DTEND;TZID=America/Chicago:20260312T193000
DTSTAMP:20260423T060600
CREATED:20260306T154013Z
LAST-MODIFIED:20260306T154311Z
UID:4042-1773338400-1773343800@unwindatwestclox.com
SUMMARY:Group Meditation & Sound Healing
DESCRIPTION:Join us for a calming and restorative Group Meditation & Sound Healing experience designed to help you reconnect with your inner strength and find balance in uncertain times. \nIn this guided session\, you’ll be led through a gentle meditation to quiet the mind\, release tension\, and create space for clarity and grounding. The meditation will be complemented by soothing sound healing using resonant instruments and tones that help support deep relaxation and energetic alignment. \nThis class is open to all experience levels\, whether you are new to meditation or have an established practice. Come as you are and allow yourself the opportunity to slow down\, reset\, and reclaim your power in a supportive group environment. \nPlease RSVP: https://www.eventbrite.com/e/group-meditation-sound-healing-tickets-1984628671782?aff=oddtdtcreator
URL:https://unwindatwestclox.com/event/4042/
LOCATION:Unwind at Westclox\, 304 5th St.\, Peru\, IL\, 61354\, United States
CATEGORIES:Class
ATTACH;FMTTYPE=image/png:https://unwindatwestclox.com/wp-content/uploads/2026/03/Blue-Gold-Illustrated-Mindfulness-Poster-1920-x-1080-px.png
END:VEVENT
BEGIN:VEVENT
DTSTART;TZID=America/Chicago:20260319T180000
DTEND;TZID=America/Chicago:20260319T190000
DTSTAMP:20260423T060600
CREATED:20260306T172803Z
LAST-MODIFIED:20260306T173741Z
UID:4046-1773943200-1773946800@unwindatwestclox.com
SUMMARY:Money Magic: Spellwork for Abundance
DESCRIPTION:In this empowering class\, explore the art of money magic and how intentional spellwork can help shift your mindset toward prosperity and abundance. Learn simple rituals\, manifestation techniques\, and energy practices designed to align your intentions with financial growth and opportunity. Whether you’re new to spellwork or looking to deepen your practice\, this class will guide you in creating powerful intentions\, cultivating gratitude\, and attracting a more abundant flow of resources into your life. \n\nPlease RSVP: https://www.eventbrite.com/e/money-magic-spellwork-for-abundance-tickets-1984635404921?aff=oddtdtcreator
URL:https://unwindatwestclox.com/event/money-magic-spellwork-for-abundance/
LOCATION:Unwind at Westclox\, 304 5th St.\, Peru\, IL\, 61354\, United States
CATEGORIES:Class
ATTACH;FMTTYPE=image/png:https://unwindatwestclox.com/wp-content/uploads/2026/03/Vintage-Occult-Halloween-Potion-and-Spells-Party-Invitation-1920-x-1080-px.png
END:VEVENT
BEGIN:VEVENT
DTSTART;TZID=America/Chicago:20260326T180000
DTEND;TZID=America/Chicago:20260326T193000
DTSTAMP:20260423T060600
CREATED:20260307T154544Z
LAST-MODIFIED:20260307T154544Z
UID:4058-1774548000-1774553400@unwindatwestclox.com
SUMMARY:From Arrival to Ascension
DESCRIPTION:What happens before we are born\, during our time on Earth\, and beyond this life? From Arrival to Ascension we will explore the spiritual path of the soul\, from its entry into the physical world to its evolution toward higher consciousness. \nIn this class\, we will examine how the soul incarnates\, the purpose of human experiences\, and the lessons that shape spiritual growth. Participants will explore ideas such as soul contracts\, karmic patterns\, life purpose\, awakening\, and the process of spiritual ascension. Through discussion\, reflection\, and practical exercises\, students will learn how everyday experiences contribute to the evolution of the soul. \nPlease RSVP: https://www.eventbrite.com/e/from-arrival-to-ascension-tickets-1984673131763?aff=oddtdtcreator
URL:https://unwindatwestclox.com/event/from-arrival-to-ascension/
LOCATION:Unwind at Westclox\, 304 5th St.\, Peru\, IL\, 61354\, United States
CATEGORIES:Class
ATTACH;FMTTYPE=image/jpeg:https://unwindatwestclox.com/wp-content/uploads/2026/03/Safe-Soul-Modern-Minimal-Music-Album-Cover-Art-1920-x-1080-px.jpg
END:VEVENT
BEGIN:VEVENT
DTSTART;TZID=America/Chicago:20260328T103000
DTEND;TZID=America/Chicago:20260328T113000
DTSTAMP:20260423T060600
CREATED:20260306T214604Z
LAST-MODIFIED:20260306T214604Z
UID:4052-1774693800-1774697400@unwindatwestclox.com
SUMMARY:Selenite Swords of Light
DESCRIPTION:Come experience the Selenite Swords of Light in person. \nIn this class\, participants will have the opportunity to see the swords up close\, feel their energy\, and learn about the unique properties each one carries. Every sword holds its own energetic personality through its design\, engravings\, and intention. \nTogether we will explore the powerful cleansing properties of selenite\, how these sacred tools can be used for energy clearing\, chakra alignment\, and raising the vibration of a space. \nParticipants will also be guided through a group activation\, experiencing how the swords can help open the crown chakra\, anchor higher frequencies\, and connect us to the crystalline grid of the Earth. \nThis is both an educational and experiential class\, inviting you to deepen your relationship with selenite and explore these beautiful tools of light in a supportive and sacred setting. \nPlease RSVP: https://www.eventbrite.com/e/selenite-swords-of-light-tickets-1984649117937?aff=oddtdtcreator
URL:https://unwindatwestclox.com/event/selenite-swords-of-light/
LOCATION:Unwind at Westclox\, 304 5th St.\, Peru\, IL\, 61354\, United States
CATEGORIES:Class
ATTACH;FMTTYPE=image/jpeg:https://unwindatwestclox.com/wp-content/uploads/2026/03/Pink-Purple-Gradient-Crystals-Tips-Video-Carousel-Instagram-Post-1920-x-1080-px.jpg
END:VEVENT
BEGIN:VEVENT
DTSTART;TZID=America/Chicago:20260329T130000
DTEND;TZID=America/Chicago:20260329T140000
DTSTAMP:20260423T060600
CREATED:20260307T223006Z
LAST-MODIFIED:20260307T223006Z
UID:4061-1774789200-1774792800@unwindatwestclox.com
SUMMARY:Sacred Motion: Ecstatic Dance
DESCRIPTION:Sacred Motion is a guided ecstatic dance experience that invites you to reconnect with your body\, spirit\, and authentic expression through free-form movement. In this judgment-free space\, participants are encouraged to move intuitively by allowing music\, breath\, and inner awareness to guide the body without choreography or expectation. \nThe session begins with gentle grounding and intention setting\, gradually building into a dynamic\, rhythmic dance journey designed to awaken energy\, release tension\, and cultivate deep presence. Through movement\, we explore emotional release\, creative expression\, and a sense of collective connection. \nNo dance experience is required. Come as you are\, move as you feel\, and allow your body to become a vessel for transformation\, joy\, and sacred expression. \nPlease RSVP: https://www.eventbrite.com/e/sacred-motion-ecstatic-dance-tickets-1984694121544?aff=oddtdtcreator
URL:https://unwindatwestclox.com/event/sacred-motion-ecstatic-dance/
LOCATION:Unwind at Westclox\, 304 5th St.\, Peru\, IL\, 61354\, United States
CATEGORIES:Class
ATTACH;FMTTYPE=image/jpeg:https://unwindatwestclox.com/wp-content/uploads/2026/03/Dark-Orange-Summer-Dance-Party-Instagram-Post-1920-x-1080-px.jpg
END:VEVENT
BEGIN:VEVENT
DTSTART;TZID=America/Chicago:20260423T180000
DTEND;TZID=America/Chicago:20260423T190000
DTSTAMP:20260423T060600
CREATED:20260407T170412Z
LAST-MODIFIED:20260407T170611Z
UID:4081-1776967200-1776970800@unwindatwestclox.com
SUMMARY:Cord Cutting & Release Work
DESCRIPTION:There are moments in life when we feel energetically tied to people\, past experiences\, or emotions that no longer serve who we are becoming. These energetic cords can keep us feeling stuck\, drained\, or unable to fully move forward. \nThis deeply intentional class is designed to help you gently release what you’re ready to let go of and reclaim your energy\, clarity\, and sense of self. \nDuring this experience\, you will be guided through a process of awareness\, reflection\, and energetic release in a safe and supportive environment. Together\, we will explore how attachments form\, how they impact your energy\, and how to consciously begin releasing them with intention and compassion. \nThis is not about forcefully “cutting people out\,” but rather about releasing the energetic weight\, patterns\, or emotional ties that are keeping you from feeling free and aligned. \nWhether you are letting go of a relationship\, a past version of yourself\, limiting beliefs\, or emotional heaviness\, this space is here to support your process. \nPlease bring: \n\nA journal and pen\nAn open mind and heart\n\nSpots are limited to keep the space intimate. Please RSVP: https://www.eventbrite.com/e/cord-cutting-release-work-tickets-1986915492725?aff=oddtdtcreator
URL:https://unwindatwestclox.com/event/cord-cutting-release-work/
LOCATION:Unwind at Westclox\, 304 5th St.\, Peru\, IL\, 61354\, United States
CATEGORIES:Class
ATTACH;FMTTYPE=image/png:https://unwindatwestclox.com/wp-content/uploads/2026/04/Red-And-Black-Minimal-Illustrative-Horror-Novel-Book-Cover-1920-x-1080-px.png
END:VEVENT
BEGIN:VEVENT
DTSTART;TZID=America/Chicago:20260425T153000
DTEND;TZID=America/Chicago:20260425T170000
DTSTAMP:20260423T060600
CREATED:20260401T180952Z
LAST-MODIFIED:20260401T190326Z
UID:4073-1777131000-1777136400@unwindatwestclox.com
SUMMARY:The Living Field: A Collective Healing Transmission
DESCRIPTION:This spirit-led gathering is a sacred space to pause\, soften\, and receive…held in the energy of community\, intuition\, and deep energetic support. \nGuided by Faiza Karim’s intuitive channeling and Abby Zukowki’s sound healing and embodied integration work\, this experience unfolds organically\, responding to the energy of those present in the room. \nWe begin with a gallery-style intuitive reading\, where spirit communicates through images\, sensations\, and knowing…offering messages of clarity\, validation\, and connection. If you feel called to connect with a loved one in spirit\, that intention is honored and welcomed. \nFrom there\, you’ll be guided into a deeply immersive healing experience\, where Abby weaves sound\, vibration\, breath\, and gentle meditative guidance to help the body release\, receive\, and integrate. \nTogether\, we will open a field where: \n\nEnergy can move and clear through the body\nThe nervous system can soften and regulate\nLost or fragmented parts of self can gently return and reintegrate\nThe physical and energetic body come back into harmony\n\nWhat You’ll Experience\n• Spirit-led intuitive messages in a group setting \n• Opportunity to connect with loved ones in spirit \n• Continuous energy healing guided by spirit \n• Chakra balancing + energetic alignment \n• Live sound healing + vibrational activation \n• Guided meditation + breath + embodied awareness \n• Emotional release\, grounding\, and nervous system support \n• Space for reflection\, integration\, and inner connection \nThis experience is never duplicated so each gathering is completely unique to those who are meant to be in the room. \nIf you’ve been feeling the call\, this is your invitation. Reserve your spot now and allow yourself to be supported\, seen\, and realigned: https://www.eventbrite.com/e/the-living-field-a-collective-transmission-with-faiza-karim-tickets-1986440084767?aff=oddtdtcreator
URL:https://unwindatwestclox.com/event/4073/
LOCATION:Unwind at Westclox\, 304 5th St.\, Peru\, IL\, 61354\, United States
CATEGORIES:Class
ATTACH;FMTTYPE=image/png:https://unwindatwestclox.com/wp-content/uploads/2026/04/Brown-Vintage-Book-of-Alchemy-Fun-Fact-Instagram-Post-1920-x-1080-px-1.png
END:VEVENT
END:VCALENDAR