BEGIN:VCALENDAR
VERSION:2.0
PRODID:-//Unwind at Westclox - ECPv6.15.20//NONSGML v1.0//EN
CALSCALE:GREGORIAN
METHOD:PUBLISH
X-ORIGINAL-URL:https://unwindatwestclox.com
X-WR-CALDESC:Events for Unwind at Westclox
REFRESH-INTERVAL;VALUE=DURATION:PT1H
X-Robots-Tag:noindex
X-PUBLISHED-TTL:PT1H
BEGIN:VTIMEZONE
TZID:America/Chicago
BEGIN:DAYLIGHT
TZOFFSETFROM:-0600
TZOFFSETTO:-0500
TZNAME:CDT
DTSTART:20240310T080000
END:DAYLIGHT
BEGIN:STANDARD
TZOFFSETFROM:-0500
TZOFFSETTO:-0600
TZNAME:CST
DTSTART:20241103T070000
END:STANDARD
BEGIN:DAYLIGHT
TZOFFSETFROM:-0600
TZOFFSETTO:-0500
TZNAME:CDT
DTSTART:20250309T080000
END:DAYLIGHT
BEGIN:STANDARD
TZOFFSETFROM:-0500
TZOFFSETTO:-0600
TZNAME:CST
DTSTART:20251102T070000
END:STANDARD
BEGIN:DAYLIGHT
TZOFFSETFROM:-0600
TZOFFSETTO:-0500
TZNAME:CDT
DTSTART:20260308T080000
END:DAYLIGHT
BEGIN:STANDARD
TZOFFSETFROM:-0500
TZOFFSETTO:-0600
TZNAME:CST
DTSTART:20261101T070000
END:STANDARD
END:VTIMEZONE
BEGIN:VEVENT
DTSTART;TZID=America/Chicago:20250730T180000
DTEND;TZID=America/Chicago:20250730T193000
DTSTAMP:20260423T064353
CREATED:20250728T230138Z
LAST-MODIFIED:20250728T230138Z
UID:3892-1753898400-1753903800@unwindatwestclox.com
SUMMARY:Midyear Reset: A Breathwork Journey
DESCRIPTION:Halfway through the year is the perfect moment to pause\, not to look back with pressure\, but to listen forward with intention. Join Abby Zukowski and Lisa Serafini for a breathwork journey designed to help you sift through the internal noise\, reset your rhythm\, and reconnect with what’s quietly calling you forward. \nThis experience blends guided breathwork\, grounded movement\, and intentional stillness to help you clear out the mental clutter\, soften emotional buildup\, and make room for clarity and momentum. It’s not about fixing\, it’s about recalibrating your inner compass and honoring where you are\, right now. \nOpen to all levels. Bring an open mind\, and the willingness to inhale something new. \nPlease RSVP: https://www.eventbrite.com/e/midyear-reset-a-breathwork-journey-tickets-1538798119599?aff=oddtdtcreator
URL:https://unwindatwestclox.com/event/midyear-reset-a-breathwork-journey/
LOCATION:Unwind at Westclox\, 304 5th St.\, Peru\, IL\, 61354\, United States
CATEGORIES:Class,Workshop
ATTACH;FMTTYPE=image/jpeg:https://unwindatwestclox.com/wp-content/uploads/2025/07/Midyear-Reset.jpg
END:VEVENT
END:VCALENDAR